BEGIN:VCALENDAR
VERSION:2.0
PRODID:KKTIX
CALSCALE:GREGORIAN
METHOD:PUBLISH
BEGIN:VTIMEZONE
TZID:Asia/Taipei
END:VTIMEZONE
BEGIN:VEVENT
DTSTAMP:20260424T190846Z
UID:20daa383-6fac-43be-8bdd-610341275fd1
DTSTART:20260508T150000Z
DTEND:20260508T150000Z
CLASS:PUBLIC
DESCRIPTION:https://lafin.kktix.cc/events/8df27b75
LOCATION: (臺北市信義區松仁路89號B2) La Fin Taipei
SUMMARY:TEMPLE TAIPEI PRESENTS: VENDEX
END:VEVENT
END:VCALENDAR
